Package: riboSeqR Version: 1.38.0 Command: /Library/Frameworks/R.framework/Resources/bin/R CMD build --keep-empty-dirs --no-resave-data riboSeqR StartedAt: 2024-10-16 22:35:51 -0400 (Wed, 16 Oct 2024) EndedAt: 2024-10-16 22:36:59 -0400 (Wed, 16 Oct 2024) EllapsedTime: 67.9 seconds RetCode: 0 Status: OK PackageFile: riboSeqR_1.38.0.tar.gz PackageFileSize: 3.649 MiB