Package: rhdf5client Version: 1.26.0 Command: /home/biocbuild/bbs-3.19-bioc/R/bin/R CMD build --keep-empty-dirs --no-resave-data rhdf5client StartedAt: 2024-10-16 20:25:40 -0400 (Wed, 16 Oct 2024) EndedAt: 2024-10-16 20:26:07 -0400 (Wed, 16 Oct 2024) EllapsedTime: 27.0 seconds RetCode: 0 Status: OK PackageFile: rhdf5client_1.26.0.tar.gz PackageFileSize: 531.6 KiB