Package: restfulSE Version: 1.26.0 Command: /Library/Frameworks/R.framework/Resources/bin/R CMD build --keep-empty-dirs --no-resave-data restfulSE StartedAt: 2024-10-17 07:29:14 -0400 (Thu, 17 Oct 2024) EndedAt: 2024-10-17 07:30:27 -0400 (Thu, 17 Oct 2024) EllapsedTime: 72.6 seconds RetCode: 1 Status: ERROR PackageFile: None PackageFileSize: NA