Package: regioneReloaded Version: 1.6.0 Command: /Library/Frameworks/R.framework/Resources/bin/R CMD check --install=check:regioneReloaded.install-out.txt --library=/Library/Frameworks/R.framework/Resources/library --no-vignettes --timings regioneReloaded_1.6.0.tar.gz StartedAt: 2024-10-17 11:40:49 -0400 (Thu, 17 Oct 2024) EndedAt: 2024-10-17 11:57:34 -0400 (Thu, 17 Oct 2024) EllapsedTime: 1004.9 seconds RetCode: 0 Status: OK CheckDir: regioneReloaded.Rcheck Warnings: 0