Package: regioneR Version: 1.36.0 Command: chmod a+r regioneR -R && E:\biocbuild\bbs-3.19-bioc\R\bin\R.exe CMD build --keep-empty-dirs --no-resave-data regioneR StartedAt: 2024-10-16 21:27:18 -0400 (Wed, 16 Oct 2024) EndedAt: 2024-10-16 21:32:12 -0400 (Wed, 16 Oct 2024) EllapsedTime: 294.2 seconds RetCode: 0 Status: OK PackageFile: regioneR_1.36.0.tar.gz PackageFileSize: 1.698 MiB