Package: regioneR Version: 1.36.0 Command: /home/biocbuild/bbs-3.19-bioc/R/bin/R CMD check --install=check:regioneR.install-out.txt --library=/home/biocbuild/bbs-3.19-bioc/R/site-library --timings regioneR_1.36.0.tar.gz StartedAt: 2024-10-17 04:15:53 -0400 (Thu, 17 Oct 2024) EndedAt: 2024-10-17 04:23:39 -0400 (Thu, 17 Oct 2024) EllapsedTime: 466.1 seconds RetCode: 0 Status: OK CheckDir: regioneR.Rcheck Warnings: 0