Package: regioneR Version: 1.36.0 Command: /Library/Frameworks/R.framework/Resources/bin/R CMD build --keep-empty-dirs --no-resave-data regioneR StartedAt: 2024-10-16 22:29:28 -0400 (Wed, 16 Oct 2024) EndedAt: 2024-10-16 22:33:53 -0400 (Wed, 16 Oct 2024) EllapsedTime: 265.4 seconds RetCode: 0 Status: OK PackageFile: regioneR_1.36.0.tar.gz PackageFileSize: 1.887 MiB