Package: recoup Version: 1.32.0 Command: rm -rf recoup.buildbin-libdir && mkdir recoup.buildbin-libdir && /Users/biocbuild/BBS/utils/build-universal.sh recoup_1.32.0.tar.gz /Library/Frameworks/R.framework/Resources/bin/R recoup.buildbin-libdir StartedAt: 2024-10-18 20:12:06 -0400 (Fri, 18 Oct 2024) EndedAt: 2024-10-18 20:13:11 -0400 (Fri, 18 Oct 2024) EllapsedTime: 65.8 seconds RetCode: 0 Status: OK PackageFile: recoup_1.32.0.tgz PackageFileSize: 2.693 MiB