Package: randPack Version: 1.50.0 Command: /Library/Frameworks/R.framework/Resources/bin/R CMD check --install=check:randPack.install-out.txt --library=/Library/Frameworks/R.framework/Resources/library --no-vignettes --timings randPack_1.50.0.tar.gz StartedAt: 2024-10-18 08:43:11 -0400 (Fri, 18 Oct 2024) EndedAt: 2024-10-18 08:43:49 -0400 (Fri, 18 Oct 2024) EllapsedTime: 38.1 seconds RetCode: 0 Status: OK CheckDir: randPack.Rcheck Warnings: 0