Package: ramwas Version: 1.28.0 Command: chmod a+r ramwas -R && E:\biocbuild\bbs-3.19-bioc\R\bin\R.exe CMD build --keep-empty-dirs --no-resave-data ramwas StartedAt: 2024-10-16 21:20:57 -0400 (Wed, 16 Oct 2024) EndedAt: 2024-10-16 21:28:39 -0400 (Wed, 16 Oct 2024) EllapsedTime: 462.5 seconds RetCode: 0 Status: OK PackageFile: ramwas_1.28.0.tar.gz PackageFileSize: 2.078 MiB