Package: r3Cseq Version: 1.50.0 Command: /home/biocbuild/R/R-beta-2024-04-15_r86425/bin/R CMD INSTALL r3Cseq StartedAt: 2024-05-08 20:23:10 -0000 (Wed, 08 May 2024) EndedAt: 2024-05-08 20:24:11 -0000 (Wed, 08 May 2024) EllapsedTime: 60.8 seconds RetCode: 0 Status: OK