Package: pvac Version: 1.52.0 Command: rm -rf pvac.buildbin-libdir && mkdir pvac.buildbin-libdir && E:\biocbuild\bbs-3.19-bioc\R\bin\R.exe CMD INSTALL --build --library=pvac.buildbin-libdir pvac_1.52.0.tar.gz StartedAt: 2024-10-17 08:23:42 -0400 (Thu, 17 Oct 2024) EndedAt: 2024-10-17 08:23:48 -0400 (Thu, 17 Oct 2024) EllapsedTime: 5.9 seconds RetCode: 0 Status: OK PackageFile: pvac_1.52.0.zip PackageFileSize: 130.1 KiB