Package: pvac Version: 1.52.0 Command: rm -rf pvac.buildbin-libdir && mkdir pvac.buildbin-libdir && F:\biocbuild\bbs-3.19-bioc\R\bin\R.exe CMD INSTALL --build --library=pvac.buildbin-libdir pvac_1.52.0.tar.gz StartedAt: 2024-06-27 08:42:54 -0400 (Thu, 27 Jun 2024) EndedAt: 2024-06-27 08:43:04 -0400 (Thu, 27 Jun 2024) EllapsedTime: 9.9 seconds RetCode: 0 Status: OK PackageFile: pvac_1.52.0.zip PackageFileSize: 128.8 KiB