Package: progeny Version: 1.26.0 Command: /home/biocbuild/bbs-3.19-bioc/R/bin/R CMD check --install=check:progeny.install-out.txt --library=/home/biocbuild/bbs-3.19-bioc/R/site-library --timings progeny_1.26.0.tar.gz StartedAt: 2024-10-17 03:55:27 -0400 (Thu, 17 Oct 2024) EndedAt: 2024-10-17 03:57:12 -0400 (Thu, 17 Oct 2024) EllapsedTime: 105.2 seconds RetCode: 0 Status: OK CheckDir: progeny.Rcheck Warnings: 0