Package: profileplyr Version: 1.20.0 Command: /Library/Frameworks/R.framework/Resources/bin/R CMD check --install=check:profileplyr.install-out.txt --library=/Library/Frameworks/R.framework/Resources/library --no-vignettes --timings profileplyr_1.20.0.tar.gz StartedAt: 2024-06-11 01:47:52 -0400 (Tue, 11 Jun 2024) EndedAt: 2024-06-11 01:59:40 -0400 (Tue, 11 Jun 2024) EllapsedTime: 708.3 seconds RetCode: 0 Status: OK CheckDir: profileplyr.Rcheck Warnings: 0