Package: profileplyr Version: 1.20.0 Command: /Library/Frameworks/R.framework/Resources/bin/R CMD INSTALL profileplyr StartedAt: 2024-10-16 18:07:23 -0400 (Wed, 16 Oct 2024) EndedAt: 2024-10-16 18:08:30 -0400 (Wed, 16 Oct 2024) EllapsedTime: 66.9 seconds RetCode: 0 Status: OK