Package: procoil Version: 2.32.0 Command: chmod a+r procoil -R && F:\biocbuild\bbs-3.19-bioc\R\bin\R.exe CMD build --keep-empty-dirs --no-resave-data procoil StartedAt: 2024-06-26 21:06:03 -0400 (Wed, 26 Jun 2024) EndedAt: 2024-06-26 21:06:50 -0400 (Wed, 26 Jun 2024) EllapsedTime: 46.6 seconds RetCode: 0 Status: OK PackageFile: procoil_2.32.0.tar.gz PackageFileSize: 1.264 MiB