Package: procoil Version: 2.32.0 Command: /Library/Frameworks/R.framework/Resources/bin/R CMD build --keep-empty-dirs --no-resave-data procoil StartedAt: 2024-10-16 22:13:21 -0400 (Wed, 16 Oct 2024) EndedAt: 2024-10-16 22:15:06 -0400 (Wed, 16 Oct 2024) EllapsedTime: 104.4 seconds RetCode: 0 Status: OK PackageFile: procoil_2.32.0.tar.gz PackageFileSize: 1.306 MiB