Package: procoil Version: 2.32.0 Command: /home/biocbuild/R/R-beta-2024-04-15_r86425/bin/R CMD build --keep-empty-dirs --no-resave-data procoil StartedAt: 2024-05-09 02:37:32 -0000 (Thu, 09 May 2024) EndedAt: 2024-05-09 02:38:20 -0000 (Thu, 09 May 2024) EllapsedTime: 48.1 seconds RetCode: 0 Status: OK PackageFile: procoil_2.32.0.tar.gz PackageFileSize: 1.296 MiB