Package: procoil Version: 2.32.0 Command: /Library/Frameworks/R.framework/Resources/bin/R CMD check --install=check:procoil.install-out.txt --library=/Library/Frameworks/R.framework/Resources/library --no-vignettes --timings procoil_2.32.0.tar.gz StartedAt: 2024-10-18 07:59:05 -0400 (Fri, 18 Oct 2024) EndedAt: 2024-10-18 08:01:35 -0400 (Fri, 18 Oct 2024) EllapsedTime: 150.1 seconds RetCode: 0 Status: OK CheckDir: procoil.Rcheck Warnings: 0