Package: proDA Version: 1.18.0 Command: /home/biocbuild/bbs-3.19-bioc/R/bin/R CMD build --keep-empty-dirs --no-resave-data proDA StartedAt: 2024-10-16 20:12:38 -0400 (Wed, 16 Oct 2024) EndedAt: 2024-10-16 20:13:57 -0400 (Wed, 16 Oct 2024) EllapsedTime: 78.2 seconds RetCode: 0 Status: OK PackageFile: proDA_1.18.0.tar.gz PackageFileSize: 1.216 MiB