Package: proDA Version: 1.18.0 Command: /Library/Frameworks/R.framework/Resources/bin/R CMD build --keep-empty-dirs --no-resave-data proDA StartedAt: 2024-10-16 22:13:21 -0400 (Wed, 16 Oct 2024) EndedAt: 2024-10-16 22:17:11 -0400 (Wed, 16 Oct 2024) EllapsedTime: 229.4 seconds RetCode: 0 Status: OK PackageFile: proDA_1.18.0.tar.gz PackageFileSize: 1.251 MiB