Package: proDA Version: 1.18.0 Command: /home/biocbuild/R/R-beta-2024-04-15_r86425/bin/R CMD build --keep-empty-dirs --no-resave-data proDA StartedAt: 2024-05-09 02:37:37 -0000 (Thu, 09 May 2024) EndedAt: 2024-05-09 02:39:32 -0000 (Thu, 09 May 2024) EllapsedTime: 115.2 seconds RetCode: 0 Status: OK PackageFile: proDA_1.18.0.tar.gz PackageFileSize: 1.184 MiB