Package: proActiv Version: 1.14.0 Command: rm -rf proActiv.buildbin-libdir && mkdir proActiv.buildbin-libdir && F:\biocbuild\bbs-3.19-bioc\R\bin\R.exe CMD INSTALL --build --library=proActiv.buildbin-libdir proActiv_1.14.0.tar.gz StartedAt: 2024-06-27 08:41:53 -0400 (Thu, 27 Jun 2024) EndedAt: 2024-06-27 08:43:01 -0400 (Thu, 27 Jun 2024) EllapsedTime: 68.7 seconds RetCode: 0 Status: OK PackageFile: proActiv_1.14.0.zip PackageFileSize: 2.668 MiB