Package: prebs Version: 1.44.0 Command: rm -rf prebs.buildbin-libdir && mkdir prebs.buildbin-libdir && E:\biocbuild\bbs-3.19-bioc\R\bin\R.exe CMD INSTALL --build --library=prebs.buildbin-libdir prebs_1.44.0.tar.gz StartedAt: 2024-10-17 08:22:30 -0400 (Thu, 17 Oct 2024) EndedAt: 2024-10-17 08:23:08 -0400 (Thu, 17 Oct 2024) EllapsedTime: 38.4 seconds RetCode: 0 Status: OK PackageFile: prebs_1.44.0.zip PackageFileSize: 278.4 KiB