Package: prebs Version: 1.44.0 Command: rm -rf prebs.buildbin-libdir && mkdir prebs.buildbin-libdir && F:\biocbuild\bbs-3.19-bioc\R\bin\R.exe CMD INSTALL --build --library=prebs.buildbin-libdir prebs_1.44.0.tar.gz StartedAt: 2024-06-27 08:41:39 -0400 (Thu, 27 Jun 2024) EndedAt: 2024-06-27 08:42:24 -0400 (Thu, 27 Jun 2024) EllapsedTime: 44.4 seconds RetCode: 0 Status: OK PackageFile: prebs_1.44.0.zip PackageFileSize: 277.7 KiB