Package: prebs Version: 1.44.0 Command: /Library/Frameworks/R.framework/Resources/bin/R CMD build --keep-empty-dirs --no-resave-data prebs StartedAt: 2024-10-16 22:11:38 -0400 (Wed, 16 Oct 2024) EndedAt: 2024-10-16 22:16:52 -0400 (Wed, 16 Oct 2024) EllapsedTime: 314.4 seconds RetCode: 0 Status: OK PackageFile: prebs_1.44.0.tar.gz PackageFileSize: 282.5 KiB