Package: pram Version: 1.20.0 Command: /home/biocbuild/bbs-3.19-bioc/R/bin/R CMD check --install=check:pram.install-out.txt --library=/home/biocbuild/bbs-3.19-bioc/R/site-library --timings pram_1.20.0.tar.gz StartedAt: 2024-10-17 03:51:56 -0400 (Thu, 17 Oct 2024) EndedAt: 2024-10-17 03:55:40 -0400 (Thu, 17 Oct 2024) EllapsedTime: 224.5 seconds RetCode: 0 Status: OK CheckDir: pram.Rcheck Warnings: 0