Package: pram Version: 1.20.0 Command: /Library/Frameworks/R.framework/Resources/bin/R CMD check --install=check:pram.install-out.txt --library=/Library/Frameworks/R.framework/Resources/library --no-vignettes --timings pram_1.20.0.tar.gz StartedAt: 2024-10-18 07:49:33 -0400 (Fri, 18 Oct 2024) EndedAt: 2024-10-18 07:53:47 -0400 (Fri, 18 Oct 2024) EllapsedTime: 254.3 seconds RetCode: 0 Status: OK CheckDir: pram.Rcheck Warnings: 0