Package: pram Version: 1.20.0 Command: rm -rf pram.buildbin-libdir && mkdir pram.buildbin-libdir && /Users/biocbuild/BBS/utils/build-universal.sh pram_1.20.0.tar.gz /Library/Frameworks/R.framework/Resources/bin/R pram.buildbin-libdir StartedAt: 2024-10-18 20:00:02 -0400 (Fri, 18 Oct 2024) EndedAt: 2024-10-18 20:00:47 -0400 (Fri, 18 Oct 2024) EllapsedTime: 45.0 seconds RetCode: 0 Status: OK PackageFile: pram_1.20.0.tgz PackageFileSize: 2.495 MiB