Package: pqsfinder Version: 2.20.0 Command: /Library/Frameworks/R.framework/Resources/bin/R CMD check --install=check:pqsfinder.install-out.txt --library=/Library/Frameworks/R.framework/Resources/library --no-vignettes --timings pqsfinder_2.20.0.tar.gz StartedAt: 2024-06-11 01:37:26 -0400 (Tue, 11 Jun 2024) EndedAt: 2024-06-11 01:41:31 -0400 (Tue, 11 Jun 2024) EllapsedTime: 244.7 seconds RetCode: 0 Status: WARNINGS CheckDir: pqsfinder.Rcheck Warnings: 1