Package: podkat Version: 1.36.0 Command: rm -rf podkat.buildbin-libdir && mkdir podkat.buildbin-libdir && /Users/biocbuild/BBS/utils/build-universal.sh podkat_1.36.0.tar.gz /Library/Frameworks/R.framework/Resources/bin/R podkat.buildbin-libdir StartedAt: 2024-10-18 19:59:01 -0400 (Fri, 18 Oct 2024) EndedAt: 2024-10-18 20:00:40 -0400 (Fri, 18 Oct 2024) EllapsedTime: 99.4 seconds RetCode: 0 Status: OK PackageFile: podkat_1.36.0.tgz PackageFileSize: 2.371 MiB