Package: plyinteractions Version: 1.2.0 Command: chmod a+r plyinteractions -R && E:\biocbuild\bbs-3.19-bioc\R\bin\R.exe CMD build --keep-empty-dirs --no-resave-data plyinteractions StartedAt: 2024-10-16 21:08:58 -0400 (Wed, 16 Oct 2024) EndedAt: 2024-10-16 21:18:21 -0400 (Wed, 16 Oct 2024) EllapsedTime: 562.7 seconds RetCode: 0 Status: OK PackageFile: plyinteractions_1.2.0.tar.gz PackageFileSize: 3.48 MiB