Package: piano Version: 2.20.0 Command: /Library/Frameworks/R.framework/Resources/bin/R CMD build --keep-empty-dirs --no-resave-data piano StartedAt: 2024-10-17 06:27:29 -0400 (Thu, 17 Oct 2024) EndedAt: 2024-10-17 06:28:22 -0400 (Thu, 17 Oct 2024) EllapsedTime: 53.0 seconds RetCode: 0 Status: OK PackageFile: piano_2.20.0.tar.gz PackageFileSize: 1.542 MiB