Package: pgca Version: 1.28.0 Command: rm -rf pgca.buildbin-libdir && mkdir pgca.buildbin-libdir && E:\biocbuild\bbs-3.19-bioc\R\bin\R.exe CMD INSTALL --build --library=pgca.buildbin-libdir pgca_1.28.0.tar.gz StartedAt: 2024-10-17 08:20:28 -0400 (Thu, 17 Oct 2024) EndedAt: 2024-10-17 08:20:35 -0400 (Thu, 17 Oct 2024) EllapsedTime: 7.4 seconds RetCode: 0 Status: OK PackageFile: pgca_1.28.0.zip PackageFileSize: 149.8 KiB