Package: peco Version: 1.16.0 Command: /Library/Frameworks/R.framework/Resources/bin/R CMD check --install=check:peco.install-out.txt --library=/Library/Frameworks/R.framework/Resources/library --no-vignettes --timings peco_1.16.0.tar.gz StartedAt: 2024-06-09 22:10:03 -0400 (Sun, 09 Jun 2024) EndedAt: 2024-06-09 22:20:21 -0400 (Sun, 09 Jun 2024) EllapsedTime: 617.9 seconds RetCode: 0 Status: OK CheckDir: peco.Rcheck Warnings: 0