Package: pdInfoBuilder Version: 1.68.0 Command: chmod a+r pdInfoBuilder -R && E:\biocbuild\bbs-3.19-bioc\R\bin\R.exe CMD build --keep-empty-dirs --no-resave-data pdInfoBuilder StartedAt: 2024-10-16 20:59:56 -0400 (Wed, 16 Oct 2024) EndedAt: 2024-10-16 21:00:36 -0400 (Wed, 16 Oct 2024) EllapsedTime: 40.1 seconds RetCode: 0 Status: OK PackageFile: pdInfoBuilder_1.68.0.tar.gz PackageFileSize: 347.5 KiB