Package: pdInfoBuilder Version: 1.68.0 Command: /home/biocbuild/bbs-3.19-bioc/R/bin/R CMD build --keep-empty-dirs --no-resave-data pdInfoBuilder StartedAt: 2024-10-16 20:05:48 -0400 (Wed, 16 Oct 2024) EndedAt: 2024-10-16 20:06:22 -0400 (Wed, 16 Oct 2024) EllapsedTime: 33.1 seconds RetCode: 0 Status: OK PackageFile: pdInfoBuilder_1.68.0.tar.gz PackageFileSize: 347.5 KiB