Package: pdInfoBuilder Version: 1.68.0 Command: rm -rf pdInfoBuilder.buildbin-libdir && mkdir pdInfoBuilder.buildbin-libdir && /Users/biocbuild/BBS/utils/build-universal.sh pdInfoBuilder_1.68.0.tar.gz /Library/Frameworks/R.framework/Resources/bin/R pdInfoBuilder.buildbin-libdir StartedAt: 2024-10-17 16:49:15 -0400 (Thu, 17 Oct 2024) EndedAt: 2024-10-17 16:50:38 -0400 (Thu, 17 Oct 2024) EllapsedTime: 83.0 seconds RetCode: 0 Status: OK PackageFile: pdInfoBuilder_1.68.0.tgz PackageFileSize: 820.8 KiB