Package: pdInfoBuilder Version: 1.68.0 Command: /Library/Frameworks/R.framework/Resources/bin/R CMD build --keep-empty-dirs --no-resave-data pdInfoBuilder StartedAt: 2024-06-09 17:41:18 -0400 (Sun, 09 Jun 2024) EndedAt: 2024-06-09 17:41:58 -0400 (Sun, 09 Jun 2024) EllapsedTime: 40.2 seconds RetCode: 0 Status: OK PackageFile: pdInfoBuilder_1.68.0.tar.gz PackageFileSize: 347.5 KiB