Package: pdInfoBuilder Version: 1.68.0 Command: rm -rf pdInfoBuilder.buildbin-libdir && mkdir pdInfoBuilder.buildbin-libdir && /Users/biocbuild/BBS/utils/build-universal.sh pdInfoBuilder_1.68.0.tar.gz /Library/Frameworks/R.framework/Resources/bin/R pdInfoBuilder.buildbin-libdir StartedAt: 2024-06-10 00:31:47 -0400 (Mon, 10 Jun 2024) EndedAt: 2024-06-10 00:32:35 -0400 (Mon, 10 Jun 2024) EllapsedTime: 47.8 seconds RetCode: 0 Status: OK PackageFile: pdInfoBuilder_1.68.0.tgz PackageFileSize: 820.3 KiB