Package: pdInfoBuilder Version: 1.68.0 Command: /home/biocbuild/R/R-beta-2024-04-15_r86425/bin/R CMD check --install=check:pdInfoBuilder.install-out.txt --library=/home/biocbuild/R/R-beta-2024-04-15_r86425/site-library --no-vignettes --timings pdInfoBuilder_1.68.0.tar.gz StartedAt: 2024-05-09 10:27:09 -0000 (Thu, 09 May 2024) EndedAt: 2024-05-09 10:30:59 -0000 (Thu, 09 May 2024) EllapsedTime: 230.5 seconds RetCode: 0 Status: OK CheckDir: pdInfoBuilder.Rcheck Warnings: 0