Package: pdInfoBuilder Version: 1.68.0 Command: rm -rf pdInfoBuilder.buildbin-libdir && mkdir pdInfoBuilder.buildbin-libdir && /Users/biocbuild/BBS/utils/build-universal.sh pdInfoBuilder_1.68.0.tar.gz /Library/Frameworks/R.framework/Resources/bin/R pdInfoBuilder.buildbin-libdir StartedAt: 2024-10-18 19:54:54 -0400 (Fri, 18 Oct 2024) EndedAt: 2024-10-18 19:55:43 -0400 (Fri, 18 Oct 2024) EllapsedTime: 49.2 seconds RetCode: 0 Status: OK PackageFile: pdInfoBuilder_1.68.0.tgz PackageFileSize: 820.9 KiB