Package: pathview Version: 1.44.0 Command: /Library/Frameworks/R.framework/Resources/bin/R CMD build --keep-empty-dirs --no-resave-data pathview StartedAt: 2024-10-16 21:58:01 -0400 (Wed, 16 Oct 2024) EndedAt: 2024-10-16 22:01:39 -0400 (Wed, 16 Oct 2024) EllapsedTime: 217.8 seconds RetCode: 0 Status: OK PackageFile: pathview_1.44.0.tar.gz PackageFileSize: 2.394 MiB