Package: pathRender Version: 1.72.0 Command: /Library/Frameworks/R.framework/Resources/bin/R CMD check --install=check:pathRender.install-out.txt --library=/Library/Frameworks/R.framework/Resources/library --no-vignettes --timings pathRender_1.72.0.tar.gz StartedAt: 2024-10-18 07:03:38 -0400 (Fri, 18 Oct 2024) EndedAt: 2024-10-18 07:05:34 -0400 (Fri, 18 Oct 2024) EllapsedTime: 115.8 seconds RetCode: 0 Status: OK CheckDir: pathRender.Rcheck Warnings: 0