Package: parody Version: 1.62.0 Command: rm -rf parody.buildbin-libdir && mkdir parody.buildbin-libdir && E:\biocbuild\bbs-3.19-bioc\R\bin\R.exe CMD INSTALL --build --library=parody.buildbin-libdir parody_1.62.0.tar.gz StartedAt: 2024-10-17 08:19:27 -0400 (Thu, 17 Oct 2024) EndedAt: 2024-10-17 08:19:35 -0400 (Thu, 17 Oct 2024) EllapsedTime: 7.9 seconds RetCode: 0 Status: OK PackageFile: parody_1.62.0.zip PackageFileSize: 351.5 KiB