Package: packFinder Version: 1.16.0 Command: rm -rf packFinder.buildbin-libdir && mkdir packFinder.buildbin-libdir && /Users/biocbuild/BBS/utils/build-universal.sh packFinder_1.16.0.tar.gz /Library/Frameworks/R.framework/Resources/bin/R packFinder.buildbin-libdir StartedAt: 2024-06-11 12:26:57 -0400 (Tue, 11 Jun 2024) EndedAt: 2024-06-11 12:27:05 -0400 (Tue, 11 Jun 2024) EllapsedTime: 7.8 seconds RetCode: 0 Status: OK PackageFile: packFinder_1.16.0.tgz PackageFileSize: 1.161 MiB