Package: pRolocGUI Version: 2.14.0 Command: E:\biocbuild\bbs-3.19-bioc\R\bin\R.exe CMD INSTALL pRolocGUI StartedAt: 2024-10-16 17:10:19 -0400 (Wed, 16 Oct 2024) EndedAt: 2024-10-16 17:11:20 -0400 (Wed, 16 Oct 2024) EllapsedTime: 60.6 seconds RetCode: 0 Status: OK