Package: oppar Version: 1.32.0 Command: rm -rf oppar.buildbin-libdir && mkdir oppar.buildbin-libdir && F:\biocbuild\bbs-3.19-bioc\R\bin\R.exe CMD INSTALL --build --library=oppar.buildbin-libdir oppar_1.32.0.tar.gz StartedAt: 2024-06-27 08:37:47 -0400 (Thu, 27 Jun 2024) EndedAt: 2024-06-27 08:38:39 -0400 (Thu, 27 Jun 2024) EllapsedTime: 52.6 seconds RetCode: 0 Status: OK PackageFile: oppar_1.32.0.zip PackageFileSize: 5.237 MiB