Package: oposSOM Version: 2.22.0 Command: /Library/Frameworks/R.framework/Resources/bin/R CMD build --keep-empty-dirs --no-resave-data oposSOM StartedAt: 2024-06-09 17:35:31 -0400 (Sun, 09 Jun 2024) EndedAt: 2024-06-09 17:36:24 -0400 (Sun, 09 Jun 2024) EllapsedTime: 52.7 seconds RetCode: 0 Status: OK PackageFile: oposSOM_2.22.0.tar.gz PackageFileSize: 13.15 MiB